BEGIN:VCALENDAR
VERSION:2.0
PRODID:-//Tukios.com/
BEGIN:VEVENT
UID:f1a6bd2e-4157-439c-a578-2a41cd398c8f@www.sanfordfuneralhome.com
DTSTAMP:20260424T213004Z
DTSTART:20260428T143000Z
DTEND:20260428T153000Z
SUMMARY:Graveside Service
DESCRIPTION:
URL:https://www.sanfordfuneralhome.com/obituaries/mary-ball
LOCATION:Cedar Point Cemetery 17700 Ohio 706  Sidney OH 45365
GEO:40.2823621;-84.099676
END:VEVENT
END:VCALENDAR